BEGIN:VCALENDAR
VERSION:2.0
PRODID:-//https://elaa.ab.ca///NONSGML kigkonsult.se iCalcreator 2.10.15//
METHOD:PUBLISH
BEGIN:VEVENT
UID:20260422T043015MDT-36995EKIzH@https://elaa.ab.ca/
DTSTAMP:20260422T103015Z
DESCRIPTION: https://elaa.ab.ca/component/rseventspro/event/3468-open-house
 -sait.html?Itemid=101
DTSTART:20221028T183000Z
DTEND:20221028T220000Z
LOCATION:Southern Alberta Institute of Technology (Southern Alberta Institu
 te of Technology\, 1301 16 Ave NW\, Calgary\, AB T2M 0L4)
SUMMARY:Open House - SAIT
URL:https://elaa.ab.ca/component/rseventspro/event/3468-open-house-sait.htm
 l?Itemid=101
END:VEVENT
END:VCALENDAR
